BEGIN:VCALENDAR
VERSION:2.0
PRODID:-//&Auml;rikool - ECPv5.10.0//NONSGML v1.0//EN
CALSCALE:GREGORIAN
METHOD:PUBLISH
X-WR-CALNAME:&Auml;rikool
X-ORIGINAL-URL:https://arikool.ee/ru
X-WR-CALDESC:Мероприятия для &Auml;rikool
BEGIN:VTIMEZONE
TZID:Europe/Tallinn
BEGIN:DAYLIGHT
TZOFFSETFROM:+0200
TZOFFSETTO:+0300
TZNAME:EEST
DTSTART:20260329T010000
END:DAYLIGHT
BEGIN:STANDARD
TZOFFSETFROM:+0300
TZOFFSETTO:+0200
TZNAME:EET
DTSTART:20261025T010000
END:STANDARD
END:VTIMEZONE
BEGIN:VEVENT
DTSTART;VALUE=DATE:20260504
DTEND;VALUE=DATE:20260805
DTSTAMP:20260421T125328
CREATED:20260316T074402Z
LAST-MODIFIED:20260316T074417Z
UID:27869-1777852800-1785887999@arikool.ee
SUMMARY:Специалист по уборке-супервайзер\, уровень 4
DESCRIPTION:
URL:https://arikool.ee/ru/event/%d1%81%d0%bf%d0%b5%d1%86%d0%b8%d0%b0%d0%bb%d0%b8%d1%81%d1%82-%d0%bf%d0%be-%d1%83%d0%b1%d0%be%d1%80%d0%ba%d0%b5-%d1%81%d1%83%d0%bf%d0%b5%d1%80%d0%b2%d0%b0%d0%b9%d0%b7%d0%b5%d1%80-5-copy-2-copy-copy-2-8
END:VEVENT
END:VCALENDAR