BEGIN:VCALENDAR
VERSION:2.0
PRODID:-//&Auml;rikool - ECPv5.10.0//NONSGML v1.0//EN
CALSCALE:GREGORIAN
METHOD:PUBLISH
X-WR-CALNAME:&Auml;rikool
X-ORIGINAL-URL:https://arikool.ee/ru
X-WR-CALDESC:Мероприятия для &Auml;rikool
BEGIN:VTIMEZONE
TZID:Europe/Tallinn
BEGIN:DAYLIGHT
TZOFFSETFROM:+0200
TZOFFSETTO:+0300
TZNAME:EEST
DTSTART:20220327T010000
END:DAYLIGHT
BEGIN:STANDARD
TZOFFSETFROM:+0300
TZOFFSETTO:+0200
TZNAME:EET
DTSTART:20221030T010000
END:STANDARD
END:VTIMEZONE
BEGIN:VEVENT
DTSTART;VALUE=DATE:20221004
DTEND;VALUE=DATE:20221204
DTSTAMP:20260422T130828
CREATED:20211027T100426Z
LAST-MODIFIED:20221003T075155Z
UID:8389-1664841600-1670111999@arikool.ee
SUMMARY:Работник по уходу – санитар
DESCRIPTION:
URL:https://arikool.ee/ru/event/%d1%80%d0%b0%d0%b1%d0%be%d1%82%d0%bd%d0%b8%d0%ba-%d0%bf%d0%be-%d1%83%d1%85%d0%be%d0%b4%d1%83-%d1%81%d0%b0%d0%bd%d0%b8%d1%82%d0%b0%d1%80-2-2022-10-04
END:VEVENT
END:VCALENDAR