BEGIN:VCALENDAR
VERSION:2.0
PRODID:-//&Auml;rikool - ECPv5.10.0//NONSGML v1.0//EN
CALSCALE:GREGORIAN
METHOD:PUBLISH
X-WR-CALNAME:&Auml;rikool
X-ORIGINAL-URL:https://arikool.ee
X-WR-CALDESC:Events for &Auml;rikool
BEGIN:VTIMEZONE
TZID:Europe/Tallinn
BEGIN:DAYLIGHT
TZOFFSETFROM:+0200
TZOFFSETTO:+0300
TZNAME:EEST
DTSTART:20240331T010000
END:DAYLIGHT
BEGIN:STANDARD
TZOFFSETFROM:+0300
TZOFFSETTO:+0200
TZNAME:EET
DTSTART:20241027T010000
END:STANDARD
END:VTIMEZONE
BEGIN:VEVENT
DTSTART;VALUE=DATE:20240220
DTEND;VALUE=DATE:20240427
DTSTAMP:20260421T112242
CREATED:20231201T112509Z
LAST-MODIFIED:20231201T112535Z
UID:15292-1708387200-1714175999@arikool.ee
SUMMARY:Puhastusteenindaja
DESCRIPTION:
URL:https://arikool.ee/event/puhastusteenindaja-2-copy-copy-copy-copy-copy-copy-copy-copy-copy
END:VEVENT
END:VCALENDAR