BEGIN:VCALENDAR
VERSION:2.0
PRODID:-//&Auml;rikool - ECPv5.10.0//NONSGML v1.0//EN
CALSCALE:GREGORIAN
METHOD:PUBLISH
X-WR-CALNAME:&Auml;rikool
X-ORIGINAL-URL:https://arikool.ee
X-WR-CALDESC:Events for &Auml;rikool
BEGIN:VTIMEZONE
TZID:Europe/Tallinn
BEGIN:DAYLIGHT
TZOFFSETFROM:+0200
TZOFFSETTO:+0300
TZNAME:EEST
DTSTART:20250330T010000
END:DAYLIGHT
BEGIN:STANDARD
TZOFFSETFROM:+0300
TZOFFSETTO:+0200
TZNAME:EET
DTSTART:20251026T010000
END:STANDARD
BEGIN:DAYLIGHT
TZOFFSETFROM:+0200
TZOFFSETTO:+0300
TZNAME:EEST
DTSTART:20260329T010000
END:DAYLIGHT
BEGIN:STANDARD
TZOFFSETFROM:+0300
TZOFFSETTO:+0200
TZNAME:EET
DTSTART:20261025T010000
END:STANDARD
END:VTIMEZONE
BEGIN:VEVENT
DTSTART;VALUE=DATE:20251217
DTEND;VALUE=DATE:20260422
DTSTAMP:20260421T130109
CREATED:20250729T111454Z
LAST-MODIFIED:20250729T111511Z
UID:24639-1765929600-1776815999@arikool.ee
SUMMARY:Kinnisvara juhtimine ja korrashoid
DESCRIPTION:
URL:https://arikool.ee/event/kinnisvara-juhtimine-ja-korrashoid-copy-copy-copy-copy-copy-2-copy-copy-copy-copy-copy-copy-copy-copy-copy-copy-copy-copy-copy-copy-copy-copy-copy-copy-copy-copy-copy
END:VEVENT
END:VCALENDAR