BEGIN:VCALENDAR
VERSION:2.0
PRODID:-//&Auml;rikool - ECPv5.10.0//NONSGML v1.0//EN
CALSCALE:GREGORIAN
METHOD:PUBLISH
X-WR-CALNAME:&Auml;rikool
X-ORIGINAL-URL:https://arikool.ee
X-WR-CALDESC:Events for &Auml;rikool
BEGIN:VTIMEZONE
TZID:Europe/Tallinn
BEGIN:DAYLIGHT
TZOFFSETFROM:+0200
TZOFFSETTO:+0300
TZNAME:EEST
DTSTART:20230326T010000
END:DAYLIGHT
BEGIN:STANDARD
TZOFFSETFROM:+0300
TZOFFSETTO:+0200
TZNAME:EET
DTSTART:20231029T010000
END:STANDARD
END:VTIMEZONE
BEGIN:VEVENT
DTSTART;VALUE=DATE:20230705
DTEND;VALUE=DATE:20230902
DTSTAMP:20260421T112117
CREATED:20230313T134234Z
LAST-MODIFIED:20230313T134501Z
UID:12070-1688515200-1693612799@arikool.ee
SUMMARY:Hooldustöötaja (Hooldustöötaja tase 3 kutsestandardi  alusel)
DESCRIPTION:
URL:https://arikool.ee/event/hooldustootaja-2-2023-07-05
END:VEVENT
END:VCALENDAR