BEGIN:VCALENDAR
VERSION:2.0
PRODID:-//&Auml;rikool - ECPv5.10.0//NONSGML v1.0//EN
CALSCALE:GREGORIAN
METHOD:PUBLISH
X-WR-CALNAME:&Auml;rikool
X-ORIGINAL-URL:https://arikool.ee
X-WR-CALDESC:Events for &Auml;rikool
BEGIN:VTIMEZONE
TZID:Europe/Tallinn
BEGIN:DAYLIGHT
TZOFFSETFROM:+0200
TZOFFSETTO:+0300
TZNAME:EEST
DTSTART:20220327T010000
END:DAYLIGHT
BEGIN:STANDARD
TZOFFSETFROM:+0300
TZOFFSETTO:+0200
TZNAME:EET
DTSTART:20221030T010000
END:STANDARD
END:VTIMEZONE
BEGIN:VEVENT
DTSTART;VALUE=DATE:20221004
DTEND;VALUE=DATE:20221204
DTSTAMP:20260422T113205
CREATED:20211027T101713Z
LAST-MODIFIED:20221005T101808Z
UID:8496-1664841600-1670111999@arikool.ee
SUMMARY:Hooldaja – sanitar
DESCRIPTION:
URL:https://arikool.ee/event/hooldaja-sanitar-2-2022-10-04
END:VEVENT
END:VCALENDAR