BEGIN:VCALENDAR
VERSION:2.0
PRODID:-//&Auml;rikool - ECPv5.10.0//NONSGML v1.0//EN
CALSCALE:GREGORIAN
METHOD:PUBLISH
X-WR-CALNAME:&Auml;rikool
X-ORIGINAL-URL:https://arikool.ee
X-WR-CALDESC:Events for &Auml;rikool
BEGIN:VTIMEZONE
TZID:Europe/Tallinn
BEGIN:DAYLIGHT
TZOFFSETFROM:+0200
TZOFFSETTO:+0300
TZNAME:EEST
DTSTART:20220327T010000
END:DAYLIGHT
BEGIN:STANDARD
TZOFFSETFROM:+0300
TZOFFSETTO:+0200
TZNAME:EET
DTSTART:20221030T010000
END:STANDARD
END:VTIMEZONE
BEGIN:VEVENT
DTSTART;VALUE=DATE:20221003
DTEND;VALUE=DATE:20221210
DTSTAMP:20260421T112218
CREATED:20211021T114626Z
LAST-MODIFIED:20221010T134422Z
UID:11076-1664755200-1670630399@arikool.ee
SUMMARY:Algtaseme arvutikoolitus
DESCRIPTION:
URL:https://arikool.ee/event/algtaseme-arvutikoolitus-2022-10-03
END:VEVENT
END:VCALENDAR